BEGIN:VCALENDAR
VERSION:2.0
PRODID:-//La Mesa Church - ECPv5.16.3.1//NONSGML v1.0//EN
CALSCALE:GREGORIAN
METHOD:PUBLISH
X-WR-CALNAME:La Mesa Church
X-ORIGINAL-URL:https://lamesachurch.com
X-WR-CALDESC:Events for La Mesa Church
REFRESH-INTERVAL;VALUE=DURATION:PT1H
X-Robots-Tag:noindex
X-PUBLISHED-TTL:PT1H
BEGIN:VTIMEZONE
TZID:America/Los_Angeles
BEGIN:DAYLIGHT
TZOFFSETFROM:-0800
TZOFFSETTO:-0700
TZNAME:PDT
DTSTART:20220313T100000
END:DAYLIGHT
BEGIN:STANDARD
TZOFFSETFROM:-0700
TZOFFSETTO:-0800
TZNAME:PST
DTSTART:20221106T090000
END:STANDARD
END:VTIMEZONE
BEGIN:VEVENT
DTSTART;TZID=America/Los_Angeles:20220201T100000
DTEND;TZID=America/Los_Angeles:20220201T120000
DTSTAMP:20260425T134012
CREATED:20200122T011700Z
LAST-MODIFIED:20220119T210134Z
UID:26265-1643709600-1643716800@lamesachurch.com
SUMMARY:Life Group – Tuesday Morning Bible Study
DESCRIPTION:
URL:https://lamesachurch.com/event/life-group-tuesday-morning-bible-study-6/
LOCATION:Griffin Reidence\, San Diego\, CA\, 92116\, United States
CATEGORIES:Bible Study,Devotional,Meditation,Prayer,Singing,Small Groups
ORGANIZER;CN="Sara%20Griffin":MAILTO:lmccfamily@gmail.com
END:VEVENT
END:VCALENDAR